BEGIN:VCALENDAR
VERSION:2.0
PRODID:-//Be Smart Driving Academy llc - ECPv6.8.1//NONSGML v1.0//EN
CALSCALE:GREGORIAN
METHOD:PUBLISH
X-ORIGINAL-URL:https://besmartdrivingacademyllc.com
X-WR-CALDESC:Events for Be Smart Driving Academy llc
REFRESH-INTERVAL;VALUE=DURATION:PT1H
X-Robots-Tag:noindex
X-PUBLISHED-TTL:PT1H
BEGIN:VTIMEZONE
TZID:UTC
BEGIN:STANDARD
TZOFFSETFROM:+0000
TZOFFSETTO:+0000
TZNAME:UTC
DTSTART:20180101T000000
END:STANDARD
END:VTIMEZONE
BEGIN:VEVENT
DTSTART;TZID=UTC:20180714T080000
DTEND;TZID=UTC:20180714T160000
DTSTAMP:20260425T204056
CREATED:20180606T220625Z
LAST-MODIFIED:20180606T220625Z
UID:736-1531555200-1531584000@besmartdrivingacademyllc.com
SUMMARY:Saving Lives Through Driver's Safety Class
DESCRIPTION:
URL:https://besmartdrivingacademyllc.com/calendar/saving-lives-through-drivers-safety-class-2-2-2-2-2/
LOCATION:Saving life Thru Driver’s Safety class\, 1921 W Dimond Blvd Ste 105 A-3\, Anchorage\, AK\,  99515-1465\, United States
END:VEVENT
BEGIN:VEVENT
DTSTART;TZID=UTC:20180707T080000
DTEND;TZID=UTC:20180707T160000
DTSTAMP:20260425T204056
CREATED:20180606T220602Z
LAST-MODIFIED:20180606T220602Z
UID:734-1530950400-1530979200@besmartdrivingacademyllc.com
SUMMARY:Saving Lives Through Driver's Safety Class
DESCRIPTION:
URL:https://besmartdrivingacademyllc.com/calendar/saving-lives-through-drivers-safety-class-2-2-2-2/
LOCATION:Saving life Thru Driver’s Safety class\, 1921 W Dimond Blvd Ste 105 A-3\, Anchorage\, AK\,  99515-1465\, United States
END:VEVENT
BEGIN:VEVENT
DTSTART;TZID=UTC:20180630T080000
DTEND;TZID=UTC:20180630T160000
DTSTAMP:20260425T204056
CREATED:20180606T220453Z
LAST-MODIFIED:20180606T220453Z
UID:732-1530345600-1530374400@besmartdrivingacademyllc.com
SUMMARY:Saving Lives Through Driver's Safety Class
DESCRIPTION:
URL:https://besmartdrivingacademyllc.com/calendar/saving-lives-through-drivers-safety-class-2-2-2/
LOCATION:Saving life Thru Driver’s Safety class\, 1921 W Dimond Blvd Ste 105 A-3\, Anchorage\, AK\,  99515-1465\, United States
END:VEVENT
BEGIN:VEVENT
DTSTART;TZID=UTC:20180623T080000
DTEND;TZID=UTC:20180623T160000
DTSTAMP:20260425T204056
CREATED:20180606T220434Z
LAST-MODIFIED:20180606T220434Z
UID:730-1529740800-1529769600@besmartdrivingacademyllc.com
SUMMARY:Saving Lives Through Driver's Safety Class
DESCRIPTION:
URL:https://besmartdrivingacademyllc.com/calendar/saving-lives-through-drivers-safety-class-2-2/
LOCATION:Saving life Thru Driver’s Safety class\, 1921 W Dimond Blvd Ste 105 A-3\, Anchorage\, AK\,  99515-1465\, United States
END:VEVENT
BEGIN:VEVENT
DTSTART;TZID=UTC:20180616T080000
DTEND;TZID=UTC:20180616T160000
DTSTAMP:20260425T204056
CREATED:20180606T220414Z
LAST-MODIFIED:20180606T220414Z
UID:728-1529136000-1529164800@besmartdrivingacademyllc.com
SUMMARY:Saving Lives Through Driver's Safety Class
DESCRIPTION:
URL:https://besmartdrivingacademyllc.com/calendar/saving-lives-through-drivers-safety-class-2/
LOCATION:Saving life Thru Driver’s Safety class\, 1921 W Dimond Blvd Ste 105 A-3\, Anchorage\, AK\,  99515-1465\, United States
END:VEVENT
BEGIN:VEVENT
DTSTART;TZID=UTC:20180609T080000
DTEND;TZID=UTC:20180609T160000
DTSTAMP:20260425T204056
CREATED:20180606T220346Z
LAST-MODIFIED:20180606T220346Z
UID:726-1528531200-1528560000@besmartdrivingacademyllc.com
SUMMARY:Saving Lives Through Driver's Safety Class
DESCRIPTION:
URL:https://besmartdrivingacademyllc.com/calendar/saving-lives-through-drivers-safety-class/
LOCATION:Saving life Thru Driver’s Safety class\, 1921 W Dimond Blvd Ste 105 A-3\, Anchorage\, AK\,  99515-1465\, United States
END:VEVENT
BEGIN:VEVENT
DTSTART;VALUE=DATE:20180331
DTEND;VALUE=DATE:20180401
DTSTAMP:20260425T204056
CREATED:20180221T211617Z
LAST-MODIFIED:20180221T211617Z
UID:724-1522454400-1522540799@besmartdrivingacademyllc.com
SUMMARY:SAVING LIVES THRU BETTER DRIVER TRAINING CLASS
DESCRIPTION:16 hour State of Alaska approved driving course for novice drivers. Includes eight hours of classroom\, eight hours of driving\, and a State of Alaska DMV road test.
URL:https://besmartdrivingacademyllc.com/calendar/saving-lives-thru-better-driver-training-class-4/
LOCATION:AK
END:VEVENT
BEGIN:VEVENT
DTSTART;VALUE=DATE:20180324
DTEND;VALUE=DATE:20180325
DTSTAMP:20260425T204056
CREATED:20180221T211501Z
LAST-MODIFIED:20180221T211501Z
UID:722-1521849600-1521935999@besmartdrivingacademyllc.com
SUMMARY:SAVING LIVES THRU BETTER DRIVER TRAINING CLASS
DESCRIPTION:16 hour State of Alaska approved driving course for novice drivers. Includes eight hours of classroom\, eight hours of driving\, and a State of Alaska DMV road test.
URL:https://besmartdrivingacademyllc.com/calendar/saving-lives-thru-better-driver-training-class-3/
LOCATION:AK
END:VEVENT
BEGIN:VEVENT
DTSTART;VALUE=DATE:20180317
DTEND;VALUE=DATE:20180318
DTSTAMP:20260425T204056
CREATED:20180221T211418Z
LAST-MODIFIED:20180221T211418Z
UID:720-1521244800-1521331199@besmartdrivingacademyllc.com
SUMMARY:SAVING LIVES THRU BETTER DRIVER TRAINING CLASS
DESCRIPTION:16 hour State of Alaska approved driving course for novice drivers. Includes eight hours of classroom\, eight hours of driving\, and a State of Alaska DMV road test.
URL:https://besmartdrivingacademyllc.com/calendar/saving-lives-thru-better-driver-training-class-2/
LOCATION:AK
END:VEVENT
BEGIN:VEVENT
DTSTART;VALUE=DATE:20180310
DTEND;VALUE=DATE:20180311
DTSTAMP:20260425T204056
CREATED:20180221T211334Z
LAST-MODIFIED:20180221T211334Z
UID:718-1520640000-1520726399@besmartdrivingacademyllc.com
SUMMARY:SAVING LIVES THRU BETTER DRIVER TRAINING CLASS
DESCRIPTION:16 hour State of Alaska approved driving course for novice drivers. Includes eight hours of classroom\, eight hours of driving\, and a State of Alaska DMV road test.
URL:https://besmartdrivingacademyllc.com/calendar/saving-lives-thru-better-driver-training-class/
LOCATION:AK
END:VEVENT
BEGIN:VEVENT
DTSTART;VALUE=DATE:20180303
DTEND;VALUE=DATE:20180304
DTSTAMP:20260425T204056
CREATED:20180221T211241Z
LAST-MODIFIED:20180221T211241Z
UID:716-1520035200-1520121599@besmartdrivingacademyllc.com
SUMMARY:SAVING LIVES THRU BETTER DRIVER TRAINING
DESCRIPTION:16 hour State of Alaska approved driving course for novice drivers. Includes eight hours of classroom\, eight hours of driving\, and a State of Alaska DMV road test.
URL:https://besmartdrivingacademyllc.com/calendar/saving-lives-thru-better-driver-training/
LOCATION:AK
END:VEVENT
BEGIN:VEVENT
DTSTART;VALUE=DATE:20180224
DTEND;VALUE=DATE:20180225
DTSTAMP:20260425T204056
CREATED:20180126T201713Z
LAST-MODIFIED:20180126T201713Z
UID:698-1519430400-1519516799@besmartdrivingacademyllc.com
SUMMARY:SAVINGS LIVES THRU BETTER DRIVER TRAINING CLASS
DESCRIPTION:16 hours State of Alaska approved driving course for novice drivers. Includes eight hours of classroom\, eight hours of driving\, and a State of Alaska DMV road test.
URL:https://besmartdrivingacademyllc.com/calendar/savings-lives-thru-better-driver-training-class/
LOCATION:AK
END:VEVENT
BEGIN:VEVENT
DTSTART;VALUE=DATE:20180101
DTEND;VALUE=DATE:20180102
DTSTAMP:20260425T204056
CREATED:20171226T201654Z
LAST-MODIFIED:20171226T201654Z
UID:676-1514764800-1514851199@besmartdrivingacademyllc.com
SUMMARY:HAPPY NEW YEAR
DESCRIPTION:
URL:https://besmartdrivingacademyllc.com/calendar/happy-new-year/
LOCATION:AK
END:VEVENT
END:VCALENDAR